BEGIN:VCALENDAR
VERSION:2.0
PRODID:-//PEMSEA - ECPv5.16.1.1//NONSGML v1.0//EN
CALSCALE:GREGORIAN
METHOD:PUBLISH
X-WR-CALNAME:PEMSEA
X-ORIGINAL-URL:https://earlymodernseasia.org
X-WR-CALDESC:Events for PEMSEA
REFRESH-INTERVAL;VALUE=DURATION:PT1H
X-Robots-Tag:noindex
X-PUBLISHED-TTL:PT1H
BEGIN:VTIMEZONE
TZID:UTC
BEGIN:STANDARD
TZOFFSETFROM:+0000
TZOFFSETTO:+0000
TZNAME:UTC
DTSTART:20230101T000000
END:STANDARD
END:VTIMEZONE
BEGIN:VEVENT
DTSTART;TZID=UTC:20230426T080000
DTEND;TZID=UTC:20230426T170000
DTSTAMP:20260423T090937
CREATED:20230426T013512Z
LAST-MODIFIED:20230504T040110Z
UID:787-1682496000-1682528400@earlymodernseasia.org
SUMMARY:Cotabato Limestone Artifacts Opening Exhibit & Lecture
DESCRIPTION:This educational exhibit features artifacts that were extracted from Cotabato\, Mindanao\, Philippines; purchased by Sally von dem Hagen; shipped to the U.S. ; and most recently donated to Filipino American Service Group. Inc\, a local nonprofit organization here in Los Angeles. Following this local exhibit\, the limestone urn artifacts will later be repatriated to the National Museum of the Philippines in Manila as part of a larger movement to return cultural items to their appropriate stewards. In Los Angeles alone\, there are over half a million Filipinos. This collection is an opportunity for community members to engage in the wider discussion of Filipino heritage\, culture\, and archaeology\, and to be active participants in the reclamation of our collective material culture. \nAn accompanying virtual exhibit can be viewed here
URL:https://earlymodernseasia.org/event/cotabato-limestone-artifacts-opening-exhibit-lecture/
LOCATION:Fasgi Bayanihan Center\, Los Angeles
END:VEVENT
END:VCALENDAR