BEGIN:VCALENDAR
VERSION:2.0
PRODID:-//PEMSEA - ECPv5.16.1.1//NONSGML v1.0//EN
CALSCALE:GREGORIAN
METHOD:PUBLISH
X-WR-CALNAME:PEMSEA
X-ORIGINAL-URL:https://earlymodernseasia.org
X-WR-CALDESC:Events for PEMSEA
REFRESH-INTERVAL;VALUE=DURATION:PT1H
X-Robots-Tag:noindex
X-PUBLISHED-TTL:PT1H
BEGIN:VTIMEZONE
TZID:UTC
BEGIN:STANDARD
TZOFFSETFROM:+0000
TZOFFSETTO:+0000
TZNAME:UTC
DTSTART:20230101T000000
END:STANDARD
END:VTIMEZONE
BEGIN:VEVENT
DTSTART;TZID=UTC:20230425T080000
DTEND;TZID=UTC:20230425T170000
DTSTAMP:20260423T090920
CREATED:20230425T224850Z
LAST-MODIFIED:20230425T224850Z
UID:778-1682409600-1682442000@earlymodernseasia.org
SUMMARY:Where Decolonization Falls Short: A Call for an Archaeology of Redress
DESCRIPTION:Lecture by Professor Stephen Acabado\, Associate Professor\, Department of Anthropology\, Interdisciplinary Archeology Program\, Director\, Center for Southeast Asian Studies\, UCLA \nHow do scholars approach community-engaged research? Why is there a need to involve community stakeholders in research? What happens when communities engage scholars and invest in the research process? Archaeological practice in Southeast Asia has recently shifted to active engagement with local stakeholders. This is due to the realization that involving stakeholder communities results in meaningful research outcomes. A growing number of investigations are actively seeking the involvement of communities as both contributors and as active and involved research participants. These undertakings humanize our community partners and counter the exclusivity often associated with scholarly authority. In this presentation\, I will talk about my collaborations in the Philippines\, which provide case studies for meaningful and continuous conversations with community members. I also emphasize the acknowledgement that no one has the monopoly on knowledge creation. However\, this approach should be considered the first step in a truly meaningful practice. As archaeologists work on a broad temporal and spatial scales\, we can contribute to address and redress historical and social injustices. In this talk\, I provide examples were the idea of decolonization falls short by neglecting to grasp the concept of “slow archaeology.” An engaged archaeology\, with an emphasis on redress\, will change the way we practice our profession\, a practice that brings archaeology to communities. It makes our practice a continuous process and not as a one-off field research event.
URL:https://earlymodernseasia.org/event/where-decolonization-falls-short-a-call-for-an-archaeology-of-redress/
LOCATION:Room 201\, Administration Building\, Shuiyuan Campus\, National Taiwan University
ATTACH;FMTTYPE=image/jpeg:https://earlymodernseasia.org/wp-content/uploads/2023/04/Acabado-NTU-Feb-2023-Flyer-e1682462821964.jpeg
END:VEVENT
END:VCALENDAR